BEGIN:VCALENDAR
VERSION:2.0
PRODID:-//Karen Adamski | Shamamama - ECPv6.15.20//NONSGML v1.0//EN
CALSCALE:GREGORIAN
METHOD:PUBLISH
X-WR-CALNAME:Karen Adamski | Shamamama
X-ORIGINAL-URL:https://shamamama.com
X-WR-CALDESC:Events for Karen Adamski | Shamamama
REFRESH-INTERVAL;VALUE=DURATION:PT1H
X-Robots-Tag:noindex
X-PUBLISHED-TTL:PT1H
BEGIN:VTIMEZONE
TZID:America/Los_Angeles
BEGIN:DAYLIGHT
TZOFFSETFROM:-0800
TZOFFSETTO:-0700
TZNAME:PDT
DTSTART:20230312T100000
END:DAYLIGHT
BEGIN:STANDARD
TZOFFSETFROM:-0700
TZOFFSETTO:-0800
TZNAME:PST
DTSTART:20231105T090000
END:STANDARD
BEGIN:DAYLIGHT
TZOFFSETFROM:-0800
TZOFFSETTO:-0700
TZNAME:PDT
DTSTART:20240310T100000
END:DAYLIGHT
BEGIN:STANDARD
TZOFFSETFROM:-0700
TZOFFSETTO:-0800
TZNAME:PST
DTSTART:20241103T090000
END:STANDARD
BEGIN:DAYLIGHT
TZOFFSETFROM:-0800
TZOFFSETTO:-0700
TZNAME:PDT
DTSTART:20250309T100000
END:DAYLIGHT
BEGIN:STANDARD
TZOFFSETFROM:-0700
TZOFFSETTO:-0800
TZNAME:PST
DTSTART:20251102T090000
END:STANDARD
END:VTIMEZONE
BEGIN:VEVENT
DTSTART;TZID=America/Los_Angeles:20240524T130000
DTEND;TZID=America/Los_Angeles:20240526T150000
DTSTAMP:20260420T042122
CREATED:20230928T004702Z
LAST-MODIFIED:20240508T164235Z
UID:13257-1716555600-1716735600@shamamama.com
SUMMARY:Wild Roots - 3 Day Retreat in the Santa Cruz Mountains
DESCRIPTION:ShamaMama.com\nReconnect To Your\nWILD ROOTS\nA Retreat\nMay 24 – 26\, 2024\n Santa Cruz Mountains\, CA\n  \nAbout This Retreat\nAre you ready to hit the reset button and strengthen your SELF?\nLet’s create and celebrate gratitude by coming together as a community for this exciting retreat!\n  \n\nExperience a weekend of harmony and bliss amongst the magical redwoods of the Santa Cruz Mountains in Soquel\, California. Enjoy daily movement & meditation\, feast on delicious vegetarian meals\, stay in lovely accommodations\, and explore the surrounding forests. Our retreat venue\, Land of Medicine Buddha\, is a sacred and tranquil place with temples\, statues\, and hidden gems throughout the grounds.  The energy of this land is very special and powerful. Guests continue to return year after year to the serenity of this place. \nHost Karen Adamski of ShamaMama.com will provide you with soothing and restorative meditation and sound healing.  Special guests will be on-hand for movement and exploration activities. Karen will also be guiding you through a special craft lesson. Special guest Mariah Moon will be joining us from Alaska\, and she will guide participants through the process of painting Green Tara on canvas.   Tom Walsh aka Qi Tom will wake us up on Saturday morning with some gentle Qi Gong meditation.  PLUS\, there will drumming amongst the redwoods\,  personal blessings and prayers hosted by Mama Earth.….not to be missed!  More than anything\, this is a time for you to reconnect to your wild roots – aka your unpolished true self.  YOU DESERVE THIS! \nSeacliff State Beach and Brighton State Beach are just about 15 minutes away by car. Visit the Pacific on one of your breaks.  Or\, simply explore the acres of magical land were you will be staying.  The quaint costal town of Soquel is a fun spot for shopping and sightseeing. Santa Cruz in 10 minutes north\, and Monterey is 35 minutes south.  If you choose to extend your trip\, there are lots of fun and beautiful options for you to explore.  This is easy territory to extend your trip. \n\n\nImportant Things to Know\n\n\n\nFull payment for event is due by Saturday March 30th. \nWe welcome all levels of artistic zen masters\, even beginners.  No matter your artistic experience\, physical strength and/or meditation experience…..you will fit right in. \nAlcohol and meat are not permitted at Land of Medicine Buddha to honor the Buddhists who live on the grounds. \nUnless you have Verizon\, cell phones will not work. There is a pay phone and WiFi available. \n\n\n\n\n\n\n\n\nAbout Your Retreat Guide\n\n\n\nKaren Adamski is a shamanic practitioner\, Certified Crystal Healer\, Certified Creatively Fit Coach\, artist\, and teacher.  After leaving a 27 year HR management career in the Silicon Valley\, Karen chose to purposely transform her ‘career’ into what it is today…pretty much the complete opposite of corporate America.   Today\, Karen works with clients from all over the world to bring them healing in the form of vibrational medicine\, meditation\, art\, nature\, color\, kindness and much more.  By bringing community together\, Karen loves to teach others how easy it is bring balance & beauty into their lives.  Karen’s passion for living life as her true self\, gives her the ability to easily connect with people\, as well as all other living things.  By sharing with others to break out of molds\, and to walk in beauty on their own paths\, Karen has helped hundreds of people understand the ease and simplicity of grounding and healing with vibration and energy.  With all of her passions pulled together into one place\, Karen has created a sacred space on the internet:  www.ShamaMama.com this is a place YOU are ALWAYS WELCOME! \nSome of the services Karen offers are:  Crystal Healing\, Shamanic Energy Work\, Journey Meditation\, Dowsing\, Power Animal Retrieval Soul Retrieval\, Home/Office Blessings & Clearings\, Paranormal Investigation\, Art Therapy\, HeART & Mind Balance\, Creatively Fit Coaching\, Painting & Meditation Workshops\,  Sound Bathes and more. \n\n\n\n\n\nWhat to Bring\n\n\n\nYoga mat \nPainting clothes \nToiletries \nWater bottle \nDrum or percussion tool (if you have one) \nComfortable shoes for walking and hiking \nBathing suit for the pool and/0r saun \nWeather appropriate clothing – plan to  layer (no need for fashion…pack for prepared comfort) \nFlashlight \n\n\n\n\n\n\n\nWhat’s included\n\nAccommodations:\n2 night stay at Land of Medicine Buddha (single\, shared\, or triple rooms)\n*see pricing options below \n\n\nFresh vegetarian meals\nFood is incredible! 2 breakfasts\, 2 lunches\, and 2 dinners. We can accommodate vegan and gluten-free as well.\n\n\nDaily guided movement\n\n\nDaily mindfulness mediation\n\nGuided art lesson (all supplies are provided)\n\nSound Healing Session\n\nMoonlight Drumming Circle in the Redwoods\n\nHiking trails\nAccess and map to different hiking trails throughout the venue\n\n**Transportation is not included**\nNearest airports are San Jose (about an hour) San Francisco (about 90 minutes) \, and Oakland (about 2 hours). Please give yourself lots of time for traffic on a Friday!\n\n\n \nPricing\n\n– Your registration includes all lodging\, meals and materials for a 2 night/3 day stay at Land of Medicine Buddha.\n\n– Balance can be made in 2 installments via Venmo\, PayPal\, check\, cash or credit card\, for an additional $50 service charge.\n– Balance due in full by May 10\, 2024.\n\n\nAccommodation options & pricing for the entire trip\n\n\nsingle private room  $1400 per person\n\n\ndouble room  $1200 per person\n\n\nshared room (triple)  $1100 per person\n\nyurt (single)  $1140 per person\nyurt (double)  $1040 per person\ntent platform  $580 per person\ncommuter  $460 per person
URL:https://shamamama.com/event/wild-roots-3-day-retreat-in-the-santa-cruz-mountains/
LOCATION:Land Of Medicine Buddha\, 5800 Prescott Rd\, Soquel\, CA\, 95073\, United States
CATEGORIES:Retreats
ATTACH;FMTTYPE=image/png:https://shamamama.com/wp-content/uploads/2023/01/Buddha200-×-200-px.png
END:VEVENT
END:VCALENDAR