BEGIN:VCALENDAR
VERSION:2.0
PRODID:-//Karen Adamski | Shamamama - ECPv6.15.20//NONSGML v1.0//EN
CALSCALE:GREGORIAN
METHOD:PUBLISH
X-WR-CALNAME:Karen Adamski | Shamamama
X-ORIGINAL-URL:https://shamamama.com
X-WR-CALDESC:Events for Karen Adamski | Shamamama
REFRESH-INTERVAL;VALUE=DURATION:PT1H
X-Robots-Tag:noindex
X-PUBLISHED-TTL:PT1H
BEGIN:VTIMEZONE
TZID:America/Los_Angeles
BEGIN:DAYLIGHT
TZOFFSETFROM:-0800
TZOFFSETTO:-0700
TZNAME:PDT
DTSTART:20240310T100000
END:DAYLIGHT
BEGIN:STANDARD
TZOFFSETFROM:-0700
TZOFFSETTO:-0800
TZNAME:PST
DTSTART:20241103T090000
END:STANDARD
BEGIN:DAYLIGHT
TZOFFSETFROM:-0800
TZOFFSETTO:-0700
TZNAME:PDT
DTSTART:20250309T100000
END:DAYLIGHT
BEGIN:STANDARD
TZOFFSETFROM:-0700
TZOFFSETTO:-0800
TZNAME:PST
DTSTART:20251102T090000
END:STANDARD
BEGIN:DAYLIGHT
TZOFFSETFROM:-0800
TZOFFSETTO:-0700
TZNAME:PDT
DTSTART:20260308T100000
END:DAYLIGHT
BEGIN:STANDARD
TZOFFSETFROM:-0700
TZOFFSETTO:-0800
TZNAME:PST
DTSTART:20261101T090000
END:STANDARD
END:VTIMEZONE
BEGIN:VEVENT
DTSTART;TZID=America/Los_Angeles:20250126T103000
DTEND;TZID=America/Los_Angeles:20250206T123000
DTSTAMP:20260421T051325
CREATED:20250106T204628Z
LAST-MODIFIED:20250122T002158Z
UID:13568-1737887400-1738845000@shamamama.com
SUMMARY:Visualize Your 2025 - A FREE 10 day event
DESCRIPTION:Visualize Your 2025\nThis is a free 10-day Zoom event (Jan 27 – Feb 5) to help you connect with your heart’s wisdom and visualize your ideal future\, so you can start the new year with clarity and confidence!  Register at https://www.coachcatherineharris.com/visualize-with-karen \n\nThis is more than a vision board party. It is ten days of being guided through a step-by-step process for developing profound self-awareness\, so you can embrace where you are now\, identify your goals\, and begin believing in your highest vision of joy!\n\n\n\nThis new year invites you to find clarity and confidence around your ideal future. Maybe you want to discover your best next career move\, or how to develop wealth\, or tips for creating a peaceful household\, or ways to attract true love. Through Catherine Harris’ unique process (which includes guided visualizations and daily activations)\, you can connect with your heart’s wisdom to gain clarity on your vision\, so you can start the new year with confidence!\n\n\n\nNew Year vision boarding is a powerful way to visually bring your goals and aspirations for the year to life.\n\nSet your intentions\, create a point of focus for 2025\, and step into the new year with clarity and purpose. By curating images\, words\, and symbols that reflect your dreams\, your vision board becomes a daily reminder of what you’re working toward — keeping you inspired\, aligned\, and motivated to take action. \nThis is a powerful tool for manifestation\, a catalyst for a positive mindset\, and a chance to set the tone for a year filled with purpose and possibility. \n\n**I invite you to share a story with your community about a time when you visualized your ideal future and it became your reality. Did you use a vision board? Either way\, share your experience around the power of visualizing as a tool for manifesting. Then\, invite your audience to create a vision board with us at the end of January.**\n\nEvent Schedule:\n💗 Sun 1/26: PRE-EVENT INTRO with Lisa Fitzpatrick (10am) 💗 \nDay 1 – Mon 1/27 — WEALTH: Catherine Harris (6am) & Nicole Renee Ray (10am)\nDay 2 – Tue 1/28 — HEALTH: Catherine Harris (6am) & Hannah McKitrick (10am)\nDay 3 – Wed 1/29 — ROMANCE: Catherine Harris (6am) & Carine Sroujian (10am) \n✨ Lunar New Year – Wed 1/29 — Catherine’s 7th Annual Vision Board Party! (7pm) ✨ \nDay 4 – Thu 1/30 — TRAVEL: Catherine Harris (6am) & Leah Gillis (10am)\nDays 5 – Fri 1/31 — FAMILY: Catherine Harris (6am) & Nicy Cedeno (10am) \n🌸 Day 6 & 7 — Integration Weekend (no calls) 🌸 \nDay 8 – Mon 2/3 — CAREER / LEGACY: Catherine Harris (6am) & Jenn Johnson (10am)\nDay 9 – Tue 2/4 — CREATIVITY: Catherine Harris (6am) & Jazelle Iona (10am)\nDay 10 – Wed 2/5 — MANIFESTING: Catherine Harris (6am) & Cora Poage (10am) \n⭐ Thu 2/6 — POST-EVENT INTEGRATION with Karen Adamski (10am) ⭐\n  \nhttps://www.coachcatherineharris.com/visualize-with-karen\n  \n 
URL:https://shamamama.com/event/visualize-your-2025/
LOCATION:Live 10 Day Zoom Event with Catherine Harris
CATEGORIES:Events & Workshops
ATTACH;FMTTYPE=image/png:https://shamamama.com/wp-content/uploads/2025/01/Visualize-2025-basic-promo-2.png
END:VEVENT
END:VCALENDAR